BEGIN:VCALENDAR
VERSION:2.0
PRODID:-//Schachbezirk Pforzheim - ECPv6.15.20//NONSGML v1.0//EN
CALSCALE:GREGORIAN
METHOD:PUBLISH
X-WR-CALNAME:Schachbezirk Pforzheim
X-ORIGINAL-URL:https://sb-pforzheim.badischer-schachverband.de
X-WR-CALDESC:Veranstaltungen für Schachbezirk Pforzheim
REFRESH-INTERVAL;VALUE=DURATION:PT1H
X-Robots-Tag:noindex
X-PUBLISHED-TTL:PT1H
BEGIN:VTIMEZONE
TZID:Europe/Berlin
BEGIN:DAYLIGHT
TZOFFSETFROM:+0100
TZOFFSETTO:+0200
TZNAME:CEST
DTSTART:20250330T010000
END:DAYLIGHT
BEGIN:STANDARD
TZOFFSETFROM:+0200
TZOFFSETTO:+0100
TZNAME:CET
DTSTART:20251026T010000
END:STANDARD
BEGIN:DAYLIGHT
TZOFFSETFROM:+0100
TZOFFSETTO:+0200
TZNAME:CEST
DTSTART:20260329T010000
END:DAYLIGHT
BEGIN:STANDARD
TZOFFSETFROM:+0200
TZOFFSETTO:+0100
TZNAME:CET
DTSTART:20261025T010000
END:STANDARD
BEGIN:DAYLIGHT
TZOFFSETFROM:+0100
TZOFFSETTO:+0200
TZNAME:CEST
DTSTART:20270328T010000
END:DAYLIGHT
BEGIN:STANDARD
TZOFFSETFROM:+0200
TZOFFSETTO:+0100
TZNAME:CET
DTSTART:20271031T010000
END:STANDARD
END:VTIMEZONE
BEGIN:VEVENT
DTSTART;VALUE=DATE:20260201
DTEND;VALUE=DATE:20260202
DTSTAMP:20260423T135152
CREATED:20250520T185713Z
LAST-MODIFIED:20250520T185713Z
UID:2995-1769904000-1769990399@sb-pforzheim.badischer-schachverband.de
SUMMARY:Verbandsrunde 5 (2025/2026)
DESCRIPTION:
URL:https://sb-pforzheim.badischer-schachverband.de/event/verbandsrunde-5-2025-2026/
END:VEVENT
BEGIN:VEVENT
DTSTART;VALUE=DATE:20260208
DTEND;VALUE=DATE:20260209
DTSTAMP:20260423T135152
CREATED:20251220T212654Z
LAST-MODIFIED:20251220T212654Z
UID:3191-1770508800-1770595199@sb-pforzheim.badischer-schachverband.de
SUMMARY:Bezirksblitzmeisterschaften
DESCRIPTION:
URL:https://sb-pforzheim.badischer-schachverband.de/event/bezirksblitzmeisterschaften-2/
END:VEVENT
BEGIN:VEVENT
DTSTART;TZID=Europe/Berlin:20260215T090000
DTEND;TZID=Europe/Berlin:20260215T170000
DTSTAMP:20260423T135152
CREATED:20251017T170425Z
LAST-MODIFIED:20251017T170425Z
UID:3160-1771146000-1771174800@sb-pforzheim.badischer-schachverband.de
SUMMARY:Bezirksmannschaftspokal: 2. Runde
DESCRIPTION:
URL:https://sb-pforzheim.badischer-schachverband.de/event/bezirksmannschaftspokal-2-runde-2/
END:VEVENT
BEGIN:VEVENT
DTSTART;VALUE=DATE:20260222
DTEND;VALUE=DATE:20260223
DTSTAMP:20260423T135152
CREATED:20250520T185734Z
LAST-MODIFIED:20250520T185734Z
UID:2997-1771718400-1771804799@sb-pforzheim.badischer-schachverband.de
SUMMARY:Verbandsrunde 6 (2025/2026)
DESCRIPTION:
URL:https://sb-pforzheim.badischer-schachverband.de/event/verbandsrunde-6-2025-2026/
END:VEVENT
END:VCALENDAR